BEGIN:VCALENDAR
VERSION:2.0
PRODID:spatie/icalendar-generator
DESCRIPTION:Évènements de Equinoxe la Radio Découverte
X-WR-CALDESC:Évènements de Equinoxe la Radio Découverte
REFRESH-INTERVAL;VALUE=DURATION:PT1440M
X-PUBLISHED-TTL:PT1440M
BEGIN:VTIMEZONE
TZID:Europe/Brussels
BEGIN:STANDARD
DTSTART:20251026T030000Z
TZOFFSETFROM:+0200
TZOFFSETTO:+0100
END:STANDARD
BEGIN:DAYLIGHT
DTSTART:20260329T020000Z
TZOFFSETFROM:+0100
TZOFFSETTO:+0200
END:DAYLIGHT
BEGIN:STANDARD
DTSTART:20261025T030000Z
TZOFFSETFROM:+0200
TZOFFSETTO:+0100
END:STANDARD
END:VTIMEZONE
BEGIN:VTIMEZONE
TZID:UTC
BEGIN:STANDARD
DTSTART:20250726T215710Z
TZOFFSETFROM:+0000
TZOFFSETTO:+0000
END:STANDARD
END:VTIMEZONE
BEGIN:VEVENT
UID:63648-163
DTSTAMP:20260422T215710Z
SUMMARY:Suivez le guide
LOCATION:
ORGANIZER;CN=Christophe Marchal:MAILTO:c.marchal@equinoxenamur.be
RRULE:FREQ=MONTHLY;BYDAY=4TH;UNTIL=20351231T000000Z
DTSTART;TZID=Europe/Brussels:20260423T210000
DTEND;TZID=Europe/Brussels:20260423T220000
X-ALT-DESC;FMTTYPE=TEXT/HTML:<p>Visites historiques de Namur\, chaque 3e je
 udi à 21h<br />\nRediffusion le jeudi suivant à 21h</p>\n
CATEGORIES:Emission
URL;VALUE=URI:https://www.equinoxenamur.be/mc-events/suivez-le-guide-2/?mc_
 id=63648
METHOD:PUBLISH
END:VEVENT
END:VCALENDAR