BEGIN:VCALENDAR
VERSION:2.0
PRODID:spatie/icalendar-generator
DESCRIPTION:Évènements de Equinoxe la Radio Découverte
X-WR-CALDESC:Évènements de Equinoxe la Radio Découverte
REFRESH-INTERVAL;VALUE=DURATION:PT1440M
X-PUBLISHED-TTL:PT1440M
BEGIN:VTIMEZONE
TZID:Europe/Brussels
BEGIN:DAYLIGHT
DTSTART:20250330T020000Z
TZOFFSETFROM:+0100
TZOFFSETTO:+0200
END:DAYLIGHT
BEGIN:STANDARD
DTSTART:20251026T030000Z
TZOFFSETFROM:+0200
TZOFFSETTO:+0100
END:STANDARD
BEGIN:DAYLIGHT
DTSTART:20260329T020000Z
TZOFFSETFROM:+0100
TZOFFSETTO:+0200
END:DAYLIGHT
END:VTIMEZONE
BEGIN:VTIMEZONE
TZID:UTC
BEGIN:STANDARD
DTSTART:20250726T133834Z
TZOFFSETFROM:+0000
TZOFFSETTO:+0000
END:STANDARD
END:VTIMEZONE
BEGIN:VEVENT
UID:78349-175
DTSTAMP:20260422T133834Z
SUMMARY:Agradecido
LOCATION:
ORGANIZER;CN=Christophe Marchal:MAILTO:c.marchal@equinoxenamur.be
RRULE:FREQ=WEEKLY;UNTIL=20260110T000000Z
DTSTART;TZID=Europe/Brussels:20251004T200000
DTEND;TZID=Europe/Brussels:20251004T220000
X-ALT-DESC;FMTTYPE=TEXT/HTML:<p>Agradecido est l’émission où confluent 
 différentes cultures provenant surtout d’Espagne et d’Amérique du Su
 d. Avec la musique comme fil conducteur et avec le rock comme colonne vert
 ébrale\, mais sans oublier les autres styles. Vous pourrez déguster de l
 a musique interprétée en espagnol\, basque\, catalan…</p>\n
CATEGORIES:Emission
URL;VALUE=URI:https://www.equinoxenamur.be/mc-events/agradecido/?mc_id=7834
 9
METHOD:PUBLISH
END:VEVENT
END:VCALENDAR