BEGIN:VCALENDAR
VERSION:2.0
PRODID:spatie/icalendar-generator
DESCRIPTION:Évènements de Equinoxe la Radio Découverte
X-WR-CALDESC:Évènements de Equinoxe la Radio Découverte
REFRESH-INTERVAL;VALUE=DURATION:PT1440M
X-PUBLISHED-TTL:PT1440M
BEGIN:VTIMEZONE
TZID:Europe/Brussels
BEGIN:DAYLIGHT
DTSTART:20250330T020000Z
TZOFFSETFROM:+0100
TZOFFSETTO:+0200
END:DAYLIGHT
BEGIN:STANDARD
DTSTART:20251026T030000Z
TZOFFSETFROM:+0200
TZOFFSETTO:+0100
END:STANDARD
BEGIN:DAYLIGHT
DTSTART:20260329T020000Z
TZOFFSETFROM:+0100
TZOFFSETTO:+0200
END:DAYLIGHT
END:VTIMEZONE
BEGIN:VTIMEZONE
TZID:UTC
BEGIN:STANDARD
DTSTART:20250730T021516Z
TZOFFSETFROM:+0000
TZOFFSETTO:+0000
END:STANDARD
END:VTIMEZONE
BEGIN:VEVENT
UID:61049-134
DTSTAMP:20260426T021516Z
SUMMARY:Reggae Nights
LOCATION:
ORGANIZER;CN=Christophe Marchal:MAILTO:c.marchal@equinoxenamur.be
DTSTART;TZID=Europe/Brussels:20251003T000000
DTEND;TZID=Europe/Brussels:20251003T020000
X-ALT-DESC;FMTTYPE=TEXT/HTML:Reggae\, Ska\,… non-stop!
CATEGORIES:Mix thématique
URL;VALUE=URI:https://www.equinoxenamur.be/mc-events/reggae-nights-4/
METHOD:PUBLISH
END:VEVENT
END:VCALENDAR